BEGIN:VCALENDAR
PRODID:-//Microsoft Corporation//Outlook 16.0 MIMEDIR//EN
VERSION:2.0
METHOD:PUBLISH
X-MS-OLK-FORCEINSPECTOROPEN:TRUE
BEGIN:VTIMEZONE
TZID:Turkey Standard Time
BEGIN:STANDARD
DTSTART:16010101T000000
TZOFFSETFROM:+0300
TZOFFSETTO:+0300
END:STANDARD
END:VTIMEZONE
BEGIN:VEVENT
CLASS:PUBLIC
CREATED:20260417T081240Z
DTEND;TZID="Turkey Standard Time":20260426T154000
DTSTAMP:20130808T124650Z
DTSTART;TZID="Turkey Standard Time":20260426T100000
LAST-MODIFIED:20260417T081240Z
LOCATION:Todem Adana
PRIORITY:5
SEQUENCE:0
SUMMARY;LANGUAGE=tr:TOD Vitreoretinal Cerrahi Birimi BAK Toplantısı
TRANSP:OPAQUE
UID:040000008200E00074C5B7101A82E0080000000050C35F449542CE01000000000000000
	01000000094D4A6BC3DF0114097933ACC4BFC1DF9
X-ALT-DESC;FMTTYPE=text/html:<!DOCTYPE HTML PUBLIC "-//W3C//DTD HTML 3.2//E
	N">\n<HTML>\n<HEAD>\n<META NAME="Generator" CONTENT="MS Exchange Server ve
	rsion rmj.rmm.rup.rpr">\n<TITLE></TITLE>\n</HEAD>\n<BODY>\n<!-- Converted 
	from text/rtf format -->\n\n<P DIR=LTR><SPAN LANG="tr"></SPAN></P>\n\n</BO
	DY>\n</HTML>
X-MICROSOFT-CDO-BUSYSTATUS:BUSY
X-MICROSOFT-CDO-IMPORTANCE:1
X-MICROSOFT-DISALLOW-COUNTER:FALSE
X-MS-OLK-AUTOFILLLOCATION:FALSE
X-MS-OLK-CONFTYPE:0
END:VEVENT
END:VCALENDAR
